BEGIN:VCALENDAR
VERSION:2.0
PRODID:-//ChamberMaster//Event Calendar 2.0//EN
METHOD:PUBLISH
X-PUBLISHED-TTL:P3D
REFRESH-INTERVAL:P3D
CALSCALE:GREGORIAN
BEGIN:VEVENT
DTSTART:20260514T120000Z
DTEND:20260514T130000Z
X-MICROSOFT-CDO-ALLDAYEVENT:FALSE
SUMMARY:Coffee Connections - May 2026
DESCRIPTION:Kickstart your morning with a cup of coffee and great conversation at the next Coffee and Connections event! This is the perfect opportunity to network with fellow professionals\, share ideas\, and build valuable relationships in a relaxed and welcoming atmosphere. Whether you're looking to expand your network\, seek advice\, or simply enjoy a good chat\, this event is for you. \n\nHOSTING LOCATION: TBD
X-ALT-DESC;FMTTYPE=text/html:<title></title>\n<p>Kickstart your morning with a cup of coffee and great conversation at the next Coffee and Connections event! This is the perfect opportunity to network with fellow professionals\, share ideas\, and build valuable relationships in a relaxed and welcoming atmosphere. Whether you&#39\;re looking to expand your network\, seek advice\, or simply enjoy a good chat\, this event is for you.&nbsp\;</p>\n\n<p><em><strong fr-original-style="" style="font-weight: 700\;">HOSTING LOCATION: TBD</strong></em></p>\n
LOCATION:Street parking is available.
UID:e.3690.1682057
SEQUENCE:3
DTSTAMP:20260423T070841Z
URL:https://business.tampabaylgbtchamber.org/events/details/coffee-connections-may-2026-1682057
END:VEVENT

END:VCALENDAR
