BEGIN:VCALENDAR
VERSION:2.0
PRODID:-//ChamberMaster//Event Calendar 2.0//EN
METHOD:PUBLISH
X-PUBLISHED-TTL:P3D
REFRESH-INTERVAL:P3D
CALSCALE:GREGORIAN
BEGIN:VEVENT
DTSTART:20261217T170000Z
DTEND:20261217T180000Z
X-MICROSOFT-CDO-ALLDAYEVENT:FALSE
SUMMARY:Economic Development and Community Engagement Committee Meeting - December
DESCRIPTION:Meeting time: 3rd Thursday\, 12 Noon (Virtual) Strengthens partnerships that support business growth and inclusive economic opportunity. This committee represents the Chamber in civic initiatives\, advocates for member businesses\, and fosters programs that advance equity and prosperity in the LGBT and allied community. The committee will also cultivate strategic partnerships with civic\, corporate\, and nonprofit stakeholders to expand access to capital\, contracting\, and economic opportunity for LGBT-owned and allied businesses
X-ALT-DESC;FMTTYPE=text/html:Meeting time: 3rd Thursday\, 12 Noon (Virtual) Strengthens partnerships that support business growth and inclusive economic opportunity. This committee represents the Chamber in civic initiatives\, advocates for member businesses\, and fosters programs that advance equity and prosperity in the LGBT and allied community. The committee will also cultivate strategic partnerships with civic\, corporate\, and nonprofit stakeholders to expand access to capital\, contracting\, and economic opportunity for LGBT-owned and allied businesses
LOCATION:Virtual
UID:e.3690.1696623
SEQUENCE:3
DTSTAMP:20260424T115634Z
URL:https://business.tampabaylgbtchamber.org/events/details/economic-development-and-community-engagement-committee-meeting-december-1696623
END:VEVENT

END:VCALENDAR
