BEGIN:VCALENDAR
VERSION:2.0
PRODID:-//ChamberMaster//Event Calendar 2.0//EN
METHOD:PUBLISH
X-PUBLISHED-TTL:P3D
REFRESH-INTERVAL:P3D
CALSCALE:GREGORIAN
BEGIN:VEVENT
DTSTART:20260513T160000Z
DTEND:20260513T170000Z
X-MICROSOFT-CDO-ALLDAYEVENT:FALSE
SUMMARY:Finance Committee Meeting - May
DESCRIPTION:Meeting time: 2nd Wednesday\, 12 Noon (Virtual) \n\nChaired by Treasurer \n\nOversees the Chamber?s financial health\, including budgeting\, reporting\, and investment strategies. This committee collaborates closely with the Treasurer and President/CEO to ensure financial transparency and sustainability. The Chamber shall maintain accurate and complete books and records of accounts\, minutes of the proceedings of its Board and committees\, and a record of members entitled to vote. All records shall be kept **in accordance with applicable Florida statutes and IRS regulations.
X-ALT-DESC;FMTTYPE=text/html:<title></title>\n<p>Meeting time: 2nd Wednesday\, 12 Noon (Virtual)&nbsp\;</p>\n\n<p><em>Chaired by Treasurer </em></p>\n\n<p>Oversees the Chamber?s financial health\, including budgeting\, reporting\, and investment strategies. This committee collaborates closely with the Treasurer and President/CEO to ensure financial transparency and sustainability. The Chamber shall maintain accurate and complete books and records of accounts\, minutes of the proceedings of its Board and committees\, and a record of members entitled to vote. All records shall be kept **in accordance with applicable Florida statutes and IRS regulations.</p>\n
LOCATION:Virtual
UID:e.3690.1696536
SEQUENCE:3
DTSTAMP:20260423T091557Z
URL:https://business.tampabaylgbtchamber.org/events/details/finance-committee-meeting-may-1696536
END:VEVENT

END:VCALENDAR
