BEGIN:VCALENDAR
VERSION:2.0
PRODID:-//ChamberMaster//Event Calendar 2.0//EN
METHOD:PUBLISH
X-PUBLISHED-TTL:P3D
REFRESH-INTERVAL:P3D
CALSCALE:GREGORIAN
BEGIN:VEVENT
DTSTART:20260609T160000Z
DTEND:20260609T170000Z
X-MICROSOFT-CDO-ALLDAYEVENT:FALSE
SUMMARY:Governance Committee Meeting - June
DESCRIPTION:Meeting time: 2nd Tuesday\, 12 Noon (Virtual) \n\nEnsures strong\, effective leadership through board development\, nominations\, bylaws review\, and compliance oversight. This committee also leads the recruitment of new Directors and evaluates board performance.
X-ALT-DESC;FMTTYPE=text/html:<title></title>\n<p>Meeting time: 2nd Tuesday\, 12 Noon (Virtual)&nbsp\;</p>\n\n<p>Ensures strong\, effective leadership through board development\, nominations\, bylaws review\, and compliance oversight. This committee also leads the recruitment of new Directors and evaluates board performance.</p>\n\n<p>&nbsp\;</p>\n
LOCATION:Virtual
UID:e.3690.1696557
SEQUENCE:3
DTSTAMP:20260423T092138Z
URL:https://business.tampabaylgbtchamber.org/events/details/governance-committee-meeting-april-06-09-2026-1696557
END:VEVENT

END:VCALENDAR
