BEGIN:VCALENDAR
VERSION:2.0
PRODID:-//ChamberMaster//Event Calendar 2.0//EN
METHOD:PUBLISH
X-PUBLISHED-TTL:P3D
REFRESH-INTERVAL:P3D
CALSCALE:GREGORIAN
BEGIN:VEVENT
DTSTART:20260515T140000Z
DTEND:20260515T150000Z
X-MICROSOFT-CDO-ALLDAYEVENT:FALSE
SUMMARY:Marketing & Promotions Committee Meeting - May
DESCRIPTION:Meeting time: 3rd Friday\, 10am (Virtual) \n\nManages the Chamber?s messaging\, branding\, and public relations strategies. This committee ensures clear\, consistent communication with members and the community across digital platforms\, newsletters\, media\, and events.
X-ALT-DESC;FMTTYPE=text/html:<title></title>\n<p>Meeting time: 3rd Friday\, 10am (Virtual)&nbsp\;</p>\n\n<p>Manages the Chamber?s messaging\, branding\, and public relations strategies. This committee ensures clear\, consistent communication with members and the community across digital platforms\, newsletters\, media\, and events.</p>\n
LOCATION:Virtual
UID:e.3690.1696595
SEQUENCE:3
DTSTAMP:20260423T092204Z
URL:https://business.tampabaylgbtchamber.org/events/details/marketing-promotions-committee-meeting-may-1696595
END:VEVENT

END:VCALENDAR
