BEGIN:VCALENDAR
VERSION:2.0
PRODID:-//ChamberMaster//Event Calendar 2.0//EN
METHOD:PUBLISH
X-PUBLISHED-TTL:P3D
REFRESH-INTERVAL:P3D
CALSCALE:GREGORIAN
BEGIN:VEVENT
DTSTART:20261120T150000Z
DTEND:20261120T160000Z
X-MICROSOFT-CDO-ALLDAYEVENT:FALSE
SUMMARY:Marketing & Promotions Committee Meeting - November
DESCRIPTION:Meeting time: 3rd Friday\, 10am (Virtual) \n\nManages the Chamber?s messaging\, branding\, and public relations strategies. This committee ensures clear\, consistent communication with members and the community across digital platforms\, newsletters\, media\, and events.
X-ALT-DESC;FMTTYPE=text/html:<title></title>\n<p>Meeting time: 3rd Friday\, 10am (Virtual)&nbsp\;</p>\n\n<p>Manages the Chamber?s messaging\, branding\, and public relations strategies. This committee ensures clear\, consistent communication with members and the community across digital platforms\, newsletters\, media\, and events.</p>\n
LOCATION:Virtual
UID:e.3690.1696601
SEQUENCE:3
DTSTAMP:20260424T115650Z
URL:https://business.tampabaylgbtchamber.org/events/details/marketing-promotions-committee-meeting-november-1696601
END:VEVENT

END:VCALENDAR
