BEGIN:VCALENDAR
VERSION:2.0
PRODID:-//ChamberMaster//Event Calendar 2.0//EN
METHOD:PUBLISH
X-PUBLISHED-TTL:P3D
REFRESH-INTERVAL:P3D
CALSCALE:GREGORIAN
BEGIN:VEVENT
DTSTART:20260521T190000Z
DTEND:20260521T200000Z
X-MICROSOFT-CDO-ALLDAYEVENT:FALSE
SUMMARY:Membership Committee Meeting - May
DESCRIPTION:Meeting time: 3rd Thursday\, 3pm (Virtual) \n\nDrives member recruitment\, engagement\, and retention. This committee shapes the member experience\, develops value-driven programming\, and supports outreach to potential members that reflects the diversity of Tampa Bay?s business community.
X-ALT-DESC;FMTTYPE=text/html:<title></title>\n<p>Meeting time: 3rd Thursday\, 3pm (Virtual)&nbsp\;</p>\n\n<p>Drives member recruitment\, engagement\, and retention. This committee shapes the member experience\, develops value-driven programming\, and supports outreach to potential members that reflects the diversity of Tampa Bay?s business community.</p>\n
LOCATION:Virtual
UID:e.3690.1696615
SEQUENCE:3
DTSTAMP:20260423T090947Z
URL:https://business.tampabaylgbtchamber.org/events/details/membership-committee-meeting-may-1696615
END:VEVENT

END:VCALENDAR
